BEGIN:VCALENDAR
VERSION:2.0
METHOD:PUBLISH
PRODID:-//Agenda.ad//NONSGML v1.0//EN
BEGIN:VEVENT
CLASS:PUBLIC
UID:5cf795dfa3bd48d5fc82567b69bc9067@agenda.ad
DTSTAMP:20260424T095327Z
DTSTART:20191211T230000Z
DTEND:20191211T230000Z
SUMMARY:Classe de pintura amb&nbsp;<span>Jordi Roll&aacute;n</span>
DESCRIPTION:\n\nMés informació\nhttps://www.agenda.ad/activitat/escald
 es-engordany/cursos-i-tallers/classe-de-pintura-amb jordi-r
 ollan\n\n\nOrganitza\nVallmedic Vision
LOCATION:Vallmedic Vision – The International Eye Clinic
SEQUENCE:0
TRANSP:OPAQUE
X-ALT-DESC;FMTTYPE=text/html:<!DOCTYPE HTML PUBLIC "-//W3C//DTD HTML 3.2//EN"><HTML><HEAD
 ><TITLE></TITLE></HEAD><BODY><FONT FACE="Arial" SIZE=2><br/>
 <br/><b>Més informació</b><br/><a href="https://www.agenda
 .ad/activitat/escaldes-engordany/cursos-i-tallers/classe-de-
 pintura-amb jordi-rollan">https://www.agenda.ad/activitat/e
 scaldes-engordany/cursos-i-tallers/classe-de-pintura-amb jo
 rdi-rollan</a><br/><br/><br/><b>Organitza</b><br/>Vallmedic 
 Vision</FONT></BODY></HTML>
END:VEVENT
END:VCALENDAR